BEGIN:VCALENDAR
VERSION:2.0
PRODID:-//Shakeout BC - ECPv6.8.3//NONSGML v1.0//EN
CALSCALE:GREGORIAN
METHOD:PUBLISH
X-WR-CALNAME:Shakeout BC
X-ORIGINAL-URL:https://shakeoutblank.arraydev.me
X-WR-CALDESC:Events for Shakeout BC
REFRESH-INTERVAL;VALUE=DURATION:PT1H
X-Robots-Tag:noindex
X-PUBLISHED-TTL:PT1H
BEGIN:VTIMEZONE
TZID:America/Vancouver
BEGIN:DAYLIGHT
TZOFFSETFROM:-0800
TZOFFSETTO:-0700
TZNAME:PDT
DTSTART:20230312T100000
END:DAYLIGHT
BEGIN:STANDARD
TZOFFSETFROM:-0700
TZOFFSETTO:-0800
TZNAME:PST
DTSTART:20231105T090000
END:STANDARD
END:VTIMEZONE
BEGIN:VEVENT
DTSTART;TZID=America/Vancouver:20230506T100000
DTEND;TZID=America/Vancouver:20230506T150000
DTSTAMP:20260423T161128
CREATED:20230420T033229Z
LAST-MODIFIED:20230420T033550Z
UID:27355-1683367200-1683385200@shakeoutblank.arraydev.me
SUMMARY:Cowichan Emergency Preparedness Expo
DESCRIPTION:Visit the Cowichan Emergency Preparedness Expo on Saturday\, May 6\, 2023 from 10 AM to 3 PM! \nEmergency Management Cowichan is excited to organize this fun\, free family event\, bringing together emergency response organizations and showcasing emergency preparedness. \n \nEnjoy content presentations and live demonstrations with: \n\nEmergency Management Cowichan – Community Engagement\nCowichan Search and Rescue Display and Helicopter Rescue Demonstration\nCowichan Tribes – Equipment Expo\nCowichan Valley Amateur Radio Society – Radio Demos\nCowichan Fire Chiefs Fire Prevention Team – House Fire Interactive Demo\nFireSmart – Wildland Fire Tactics\nRCMP – Community Engagement\nNorth Oyster Fire Rescue – Equipment Expo\nCanadian Red Cross – Family Preparedness Kits\nCanadian Coast Guard – Community Engagement\nBC Wildfire Service – Fire Attack Crew Demonstration\nRoyal Canadian Marine SAR – Community Engagement\nShakeOut BC – Tsunami Info\n\nFood trucks\, parking and first aid also on site!
URL:https://shakeoutblank.arraydev.me/event/cowichan-emergency-preparedness-expo/
LOCATION:Cowichan Exhibition Park\, 7380 Trans-Canada Hwy\,\, Duncan\, BC\, Canada
END:VEVENT
END:VCALENDAR