BEGIN:VCALENDAR
VERSION:2.0
PRODID:-//Shakeout BC - ECPv6.8.3//NONSGML v1.0//EN
CALSCALE:GREGORIAN
METHOD:PUBLISH
X-WR-CALNAME:Shakeout BC
X-ORIGINAL-URL:https://shakeoutblank.arraydev.me
X-WR-CALDESC:Events for Shakeout BC
REFRESH-INTERVAL;VALUE=DURATION:PT1H
X-Robots-Tag:noindex
X-PUBLISHED-TTL:PT1H
BEGIN:VTIMEZONE
TZID:America/Vancouver
BEGIN:DAYLIGHT
TZOFFSETFROM:-0800
TZOFFSETTO:-0700
TZNAME:PDT
DTSTART:20230312T100000
END:DAYLIGHT
BEGIN:STANDARD
TZOFFSETFROM:-0700
TZOFFSETTO:-0800
TZNAME:PST
DTSTART:20231105T090000
END:STANDARD
END:VTIMEZONE
BEGIN:VEVENT
DTSTART;TZID=America/Vancouver:20230507T080000
DTEND;TZID=America/Vancouver:20230513T170000
DTSTAMP:20260423T161144
CREATED:20230420T031843Z
LAST-MODIFIED:20230420T031843Z
UID:27352-1683446400-1683997200@shakeoutblank.arraydev.me
SUMMARY:Emergency Preparedness Week
DESCRIPTION:Everyone has a role to play in an emergency. EP Week is an opportunity for you to take action to ensure you are prepared to protect yourself\, your family and your community during an emergency. This year\, the theme is Be Prepared. Know Your Risks. The intent of the theme is to encourage Canadians to understand the risks in their area and learn what actions they can take to protect themselves and their families. \nGet Involved!\nThis year\, participate in our challenge to win an emergency kit on our social media channels. \nSimply tell us how you’re helping to make you and your family better prepared to cope during an emergency\, and use the hashtag #ReadyforAnything. \nIt can be as simple as making an emergency kit with items found around your home\, creating a family emergency plan\, or becoming more informed about the hazards in your area. Get creative and post those messages\, photos\, or videos! \nDon’t forget to use the hashtag #EPWeek2023. \nMore info on rules and regulations are available. \nResources\n\nEmergency Preparedness Week Video 2022\nEmergency Management Organizations\nEmergency Preparedness Week Toolkit\nEmergency Preparedness Guide\nLearn about hazards and other emergencies\nMake an emergency plan\nBuild an emergency kit\n\nFor more information\, please contact ps.getprepared-preparevous.sp@ps-sp.gc.ca or call 1-800-830-3118. \nThis national event is coordinated by Public Safety Canada\, in close collaboration with the provinces and territories and partners.
URL:https://shakeoutblank.arraydev.me/event/emergency-preparedness-week/
LOCATION:BC
END:VEVENT
BEGIN:VEVENT
DTSTART;TZID=America/Vancouver:20230507T110000
DTEND;TZID=America/Vancouver:20230507T150000
DTSTAMP:20260423T161144
CREATED:20230404T043100Z
LAST-MODIFIED:20230404T043100Z
UID:26973-1683457200-1683471600@shakeoutblank.arraydev.me
SUMMARY:View Royal: Emergency Preparedness and Display
DESCRIPTION: \nView Royal: Emergency Preparedness and Display Fair\nTime: 11 am – 3 pm at the Juan de Fuca Senior Center (JDF Arena parking lot)
URL:https://shakeoutblank.arraydev.me/event/view-royal-emergency-preparedness-and-display/
LOCATION:BC
END:VEVENT
END:VCALENDAR