BEGIN:VCALENDAR
VERSION:2.0
PRODID:-//Shakeout BC - ECPv6.8.3//NONSGML v1.0//EN
CALSCALE:GREGORIAN
METHOD:PUBLISH
X-ORIGINAL-URL:https://shakeoutblank.arraydev.me
X-WR-CALDESC:Events for Shakeout BC
REFRESH-INTERVAL;VALUE=DURATION:PT1H
X-Robots-Tag:noindex
X-PUBLISHED-TTL:PT1H
BEGIN:VTIMEZONE
TZID:America/Vancouver
BEGIN:DAYLIGHT
TZOFFSETFROM:-0800
TZOFFSETTO:-0700
TZNAME:PDT
DTSTART:20230312T100000
END:DAYLIGHT
BEGIN:STANDARD
TZOFFSETFROM:-0700
TZOFFSETTO:-0800
TZNAME:PST
DTSTART:20231105T090000
END:STANDARD
END:VTIMEZONE
BEGIN:VEVENT
DTSTART;TZID=America/Vancouver:20230516T133000
DTEND;TZID=America/Vancouver:20230516T143000
DTSTAMP:20260423T161445
CREATED:20230420T034317Z
LAST-MODIFIED:20230508T160743Z
UID:27360-1684243800-1684247400@shakeoutblank.arraydev.me
SUMMARY:Ask An Expert - Earthquake and Tsunami Webinar for Students
DESCRIPTION:Registration Link below: \nWhen: May 16\, 2023 01:30 PM Pacific Time (US and Canada)\nTopic: The Great BC ShakeOut’s ‘Ask the Experts’ School Aged Edition \nRegister in advance for this webinar:\nhttps://us02web.zoom.us/webinar/register/WN_SQFE5v9NSN-snfr24uvNRg \n\nAfter registering\, you will receive a confirmation email containing information about joining the webinar. See you then!
URL:https://shakeoutblank.arraydev.me/event/ask-an-expert-earthquake-and-tsunami-webinar-for-students/
LOCATION:BC
END:VEVENT
END:VCALENDAR