BEGIN:VCALENDAR
VERSION:2.0
PRODID:-//Shakeout BC - ECPv6.8.3//NONSGML v1.0//EN
CALSCALE:GREGORIAN
METHOD:PUBLISH
X-ORIGINAL-URL:https://shakeoutblank.arraydev.me
X-WR-CALDESC:Events for Shakeout BC
REFRESH-INTERVAL;VALUE=DURATION:PT1H
X-Robots-Tag:noindex
X-PUBLISHED-TTL:PT1H
BEGIN:VTIMEZONE
TZID:America/Vancouver
BEGIN:DAYLIGHT
TZOFFSETFROM:-0800
TZOFFSETTO:-0700
TZNAME:PDT
DTSTART:20230312T100000
END:DAYLIGHT
BEGIN:STANDARD
TZOFFSETFROM:-0700
TZOFFSETTO:-0800
TZNAME:PST
DTSTART:20231105T090000
END:STANDARD
END:VTIMEZONE
BEGIN:VEVENT
DTSTART;TZID=America/Vancouver:20231014T080000
DTEND;TZID=America/Vancouver:20231020T170000
DTSTAMP:20260423T100131
CREATED:20230404T043806Z
LAST-MODIFIED:20230404T043806Z
UID:26981-1697270400-1697821200@shakeoutblank.arraydev.me
SUMMARY:The Great BC ShakeOut Week
DESCRIPTION:The Great BC ShakeOut week\n \nOctober  14th to 20th\n \nMore info coming soon
URL:https://shakeoutblank.arraydev.me/event/the-great-bc-shakeout-week/
LOCATION:BC
END:VEVENT
BEGIN:VEVENT
DTSTART;TZID=America/Vancouver:20231017T183000
DTEND;TZID=America/Vancouver:20231017T210000
DTSTAMP:20260423T100131
CREATED:20231007T035607Z
LAST-MODIFIED:20231007T035607Z
UID:29204-1697567400-1697576400@shakeoutblank.arraydev.me
SUMMARY:ShakeOutBC - Free Screening of San Andreas Movie
DESCRIPTION:Discover the REAL impacts of earthquakes and have fun getting ready for the annual ShakeOutBC earthquake drill hosted by the BC Earthquake Alliance!  \nJoin us for a free screening of the action/thriller movie San Andreas\, starring Dwayne Johnson\, featuring live scientific commentary from Alison Bird\, Seismologist at Natural Resources Canada and Director\, BC Earthquake Alliance and Member of ShakeOutBC Planning Committee.  \nDoors open: 6:30PM \nMovie: 7-9PM  \nDuring the movie\, Alison will provide expert scientific commentary\, comparing Hollywood’s inaccurate portrayal of seismic events to realistic scenarios. She’ll also share factual information about earthquake hazards from the recent National Risk Profile. There will be prizes at the end of the movie and valuable information about how you and your household can better prepare for an earthquake! 
URL:https://shakeoutblank.arraydev.me/event/shakeoutbc-free-screening-of-san-andreas-movie/
LOCATION:Shadbolt Centre for the Arts\, 6450 Deer Lake Ave\, Burnaby\, BC\, V5G 2J3\, Canada
END:VEVENT
BEGIN:VEVENT
DTSTART;TZID=America/Vancouver:20231018T190000
DTEND;TZID=America/Vancouver:20231018T200000
DTSTAMP:20260423T100131
CREATED:20230612T190333Z
LAST-MODIFIED:20230912T074926Z
UID:27632-1697655600-1697659200@shakeoutblank.arraydev.me
SUMMARY:Ask An Expert
DESCRIPTION:ShakeOutBC is hosting a virtual “Ask an Earthquake Expert” webinar! This session will help individuals\, families and organizations learn how to be safe when the earth shakes! Panelists include two (2) earthquake seismologists\, emergency preparedness experts and a representative from BC Hydro and Fortis BC.\n\n  \nWhen: Oct 18\, 2023 07:00 PM Vancouver \nTopic: Great BC ShakeOut Ask an Expert Webinar \nRegister in advance for this webinar: https://us02web.zoom.us/webinar/register/WN_1GFv890pTo6zvF-aawuvlg
URL:https://shakeoutblank.arraydev.me/event/ask-an-expert-3/
LOCATION:BC
END:VEVENT
BEGIN:VEVENT
DTSTART;TZID=America/Vancouver:20231019T101900
DTEND;TZID=America/Vancouver:20231019T102000
DTSTAMP:20260423T100131
CREATED:20230404T044237Z
LAST-MODIFIED:20231007T035210Z
UID:26985-1697710740-1697710800@shakeoutblank.arraydev.me
SUMMARY:The Great BC ShakeOut
DESCRIPTION:  \n \nThe BC Earthquake Alliance will be hosting the 12th Annual ShakeOutBC earthquake drill this year. \nLiving in an earthquake region means British Columbians need to be prepared and\nknow how to stay safe during and after an earthquake. Get ready to Drop\, Cover\, and Hold On! and join thousands of people on October 19th\, at 10:19AM!
URL:https://shakeoutblank.arraydev.me/event/the-great-bc-shakeout/
LOCATION:BC
END:VEVENT
END:VCALENDAR