BEGIN:VCALENDAR
VERSION:2.0
PRODID:-//Shakeout BC - ECPv6.8.3//NONSGML v1.0//EN
CALSCALE:GREGORIAN
METHOD:PUBLISH
X-WR-CALNAME:Shakeout BC
X-ORIGINAL-URL:https://shakeoutblank.arraydev.me
X-WR-CALDESC:Events for Shakeout BC
REFRESH-INTERVAL;VALUE=DURATION:PT1H
X-Robots-Tag:noindex
X-PUBLISHED-TTL:PT1H
BEGIN:VTIMEZONE
TZID:America/Vancouver
BEGIN:DAYLIGHT
TZOFFSETFROM:-0800
TZOFFSETTO:-0700
TZNAME:PDT
DTSTART:20230312T100000
END:DAYLIGHT
BEGIN:STANDARD
TZOFFSETFROM:-0700
TZOFFSETTO:-0800
TZNAME:PST
DTSTART:20231105T090000
END:STANDARD
END:VTIMEZONE
BEGIN:VEVENT
DTSTART;TZID=America/Vancouver:20230831T173000
DTEND;TZID=America/Vancouver:20230914T203000
DTSTAMP:20260423T080700
CREATED:20230809T005054Z
LAST-MODIFIED:20230809T005054Z
UID:27815-1693503000-1694723400@shakeoutblank.arraydev.me
SUMMARY:Sidney Street Market
DESCRIPTION:Mark your calendars for August 31st and September 14th! ? \nJoin the ShakeOutBC team is returning to Sidney’s iconic Thursday night market on Beacon Avenue. Come stop by our booth at the Sidney Street Market\, from 5:30pm to 8:30pm. \nStop by our booth and learn more about earthquake preparedness\, connect with the community\, and be part of a movement that resonates. See you there!
URL:https://shakeoutblank.arraydev.me/event/sidney-street-market/
LOCATION:Along Beacon Avenue in Sidney\, BC\, Beacon Avenue\, Sidney\, BC\, Canada
END:VEVENT
BEGIN:VEVENT
DTSTART;TZID=America/Vancouver:20230914T093000
DTEND;TZID=America/Vancouver:20230914T143000
DTSTAMP:20260423T080700
CREATED:20230727T192922Z
LAST-MODIFIED:20230905T160905Z
UID:27781-1694683800-1694701800@shakeoutblank.arraydev.me
SUMMARY:Safety First Fair - University of Victoria in partnership with the District of Oak Bay
DESCRIPTION:From forest fires to hurricanes to floods\, emergencies have been in the news a lot lately. And it can feel pretty scary. Thankfully\, UVic and our surrounding communities have lots of resources\, services and supports to help keep you safe. \nJoin ShakeOutBC for this Safety First Fair! We’re bringing emergency and safety services to campus so that you can learn everything you need to know about emergency preparedness and safety at UVic. And we promise it’ll be fun and there will be giveaways! \nA few of the attractions you’ll encounter at the Safety First Fair:\nQuake Cottage \nTake a ride in the Quake Cottage and experience what a large earthquake feels like first-hand! Plus learn everything you need to know about earthquake preparedness. Afterall\, we are living in an earthquake zone here in Victoria. \nFire safety \nDo you know how to keep your dorm room or apartment fire-safe? Do you have an evacuation plan? Learn how you can limit the risk of fire… and check out a fire truck or snap a selfie with firefighters while you’re at it. \nEmergency preparedness \nIf you’re prepared for one emergency\, you’re prepared for most of them. Learn what services are available in and around Victoria. \nVolunteer opportunities \nLearn how you can get give back to the community. Volunteer opportunities are available with local emergency and safety services.
URL:https://shakeoutblank.arraydev.me/event/safety-first-fair-university-of-victoria-in-partnership-with-the-district-of-oak-bay/
LOCATION:Petch Fountain – area in front of the McPherson Library\, 3800 Finnerty Rd\, Victoria\, BC\, V8P 5C2\, Canada
END:VEVENT
BEGIN:VEVENT
DTSTART;VALUE=DATE:20230926
DTEND;VALUE=DATE:20230928
DTSTAMP:20260423T080700
CREATED:20230626T183811Z
LAST-MODIFIED:20230626T183935Z
UID:27665-1695686400-1695859199@shakeoutblank.arraydev.me
SUMMARY:BC MSA and PWABC 5th Joint Annual Conference & Tradeshow
DESCRIPTION:JAC2023 is the only interdisciplinary conference dedicated to Occupational Health and Safety and Public Works. Our annual conferences have brought together a unique mix of experts and professionals and with over 400 participants from across BC #JAC2023 will continue that tradition. \nNetworking: Expand and maintain contacts with your peers\, clients and vendors with the same business focus and challenges you experience. Participate in one or more of many networking events in a unique and beautiful city. \nEducation & inspiration: Explore current best practice principles\, recent tools\, and techniques. Learn about cutting-edge practice. Attend and participate in stimulating and thought-provoking discussions. \nOptions: Choose from numerous and diverse education sessions\, ranging from interdisciplinary approaches to topic-specific workshops. \n\n\n\n\nQUESTIONS OR NEED ASSISTANCE?\nBCMSA and PWABC 2023 Secretariat \nc/o Venue West Conference Services\nPO Box 98144\, Yaletown RPO\nVancouver\, BC\, V6Z 2Z7\nP: 604.681.5226  | E: jac2023@venuewest.com \n \n\n\n \n\n 
URL:https://shakeoutblank.arraydev.me/event/bc-msa-and-pwabc-5th-joint-annual-conference-tradeshow/
LOCATION:Penticton Lakeside Resort & Conference Centre\, 21 Lakeshore Dr W\, Penticton\, BC\, V2A7M5\, Canada
END:VEVENT
BEGIN:VEVENT
DTSTART;VALUE=DATE:20230930
DTEND;VALUE=DATE:20231001
DTSTAMP:20260423T080700
CREATED:20230626T183351Z
LAST-MODIFIED:20230626T183351Z
UID:27661-1696032000-1696118399@shakeoutblank.arraydev.me
SUMMARY:Songhees Nation's South Island Powwow
DESCRIPTION:September 30th marks National Day for Truth and Reconciliation. The annual South Island Powwow is an opportunity to recognize Survivors and their families in the spirit of reconciliation. Through song and dance\, we will celebrate traditional Indigenous cultures and resiliency. \nFirst Nations far and wide\, have been welcomed to join us on this day to celebrate in our time-honoured powwow. \nIn 2022\, the powwow brought 10\,000 together to witness Indigenous resiliency to stand together on Orange Shirt Day. \nQuestions? Email nationevents@songheesnation.com
URL:https://shakeoutblank.arraydev.me/event/songhees-nations-south-island-powwow/
LOCATION:Royal Athletic Park\, 1014 Caledonia Ave\, Victoria\, BC\, V8T1E8\, Canada
END:VEVENT
END:VCALENDAR